BEGIN:VCALENDAR
VERSION:2.0
PRODID:icalendar-ruby
CALSCALE:GREGORIAN
METHOD:PUBLISH
BEGIN:VEVENT
DTSTAMP:20260425T005442Z
UID:5-621861@afph29510.org
DTSTART:20261101T153000Z
DTEND:20261101T163000Z
CLASS:PUBLIC
CREATED:20260424T195316
DESCRIPTION:Sunday Worship
LAST-MODIFIED:20260424T195316
LOCATION:
SUMMARY:Sunday Worship
URL;VALUE=URI:https://afph29510.org/events/sunday-worship/2026-11-01
END:VEVENT
END:VCALENDAR
