BEGIN:VCALENDAR
VERSION:2.0
PRODID:icalendar-ruby
CALSCALE:GREGORIAN
METHOD:PUBLISH
BEGIN:VEVENT
DTSTAMP:20260424T233927Z
UID:5-621294@afph29510.org
DTSTART:20261025T143000Z
DTEND:20261025T153000Z
CLASS:PUBLIC
CREATED:20260424T170526
DESCRIPTION:Sunday Worship
LAST-MODIFIED:20260424T170526
LOCATION:
SUMMARY:Sunday Worship
URL;VALUE=URI:https://afph29510.org/events/sunday-worship/2026-10-25
END:VEVENT
END:VCALENDAR
