BEGIN:VCALENDAR
VERSION:2.0
PRODID:icalendar-ruby
CALSCALE:GREGORIAN
METHOD:PUBLISH
BEGIN:VEVENT
DTSTAMP:20260424T223305Z
UID:5-621293@afph29510.org
DTSTART:20261018T143000Z
DTEND:20261018T153000Z
CLASS:PUBLIC
CREATED:20260424T170526
DESCRIPTION:Sunday Worship
LAST-MODIFIED:20260424T170526
LOCATION:
SUMMARY:Sunday Worship
URL;VALUE=URI:https://afph29510.org/events/sunday-worship/2026-10-18
END:VEVENT
END:VCALENDAR
