BEGIN:VCALENDAR
VERSION:2.0
PRODID:icalendar-ruby
CALSCALE:GREGORIAN
METHOD:PUBLISH
BEGIN:VEVENT
DTSTAMP:20260423T235237Z
UID:20-618200@afph29510.org
DTSTART:20261005T153000Z
DTEND:20261005T170000Z
CLASS:PUBLIC
CREATED:20260423T172315
DESCRIPTION:Free Hot Meals to those that are hungry in our community!
LAST-MODIFIED:20260423T172315
LOCATION:112 N Magnolia Ave Andrews SC 29510
SUMMARY:Meals of Hope
URL;VALUE=URI:https://afph29510.org/events/meals-of-hope/2026-10-05
ATTACH;FILENAME=phonto.png;FMTTYPE=image/png:https://dq5pwpg1q8ru0.cloudfro
 nt.net/2025/12/22/13/36/45/72311554-4540-4b0c-8fd9-a35fc23687c3/phonto.png
END:VEVENT
END:VCALENDAR
